BEGIN:VCALENDAR
VERSION:2.0
PRODID:-//Tukios.com/
BEGIN:VEVENT
UID:88985bd3-9f44-49f6-a4e2-76f85620c945@www.dyersburgfuneralhome.net
DTSTAMP:20260423T212050Z
DTSTART:20260502T150000Z
DTEND:20260502T160000Z
SUMMARY:Graveside Service
DESCRIPTION:
URL:https://www.dyersburgfuneralhome.net/obituaries/sue-baldridge
LOCATION:Fairview Cemetery 820 Shelby Drive  Dyersburg TN 38024
GEO:36.0440718;-89.3747534
END:VEVENT
END:VCALENDAR