BEGIN:VCALENDAR
VERSION:2.0
PRODID:-//Tukios.com/
BEGIN:VEVENT
UID:2bae59d5-722e-49ce-bd9a-61b46504652e@www.dyersburgfuneralhome.net
DTSTAMP:20260423T211131Z
DTSTART:20260502T140000Z
DTEND:20260502T144500Z
SUMMARY:Visitation
DESCRIPTION:
URL:https://www.dyersburgfuneralhome.net/obituaries/sue-baldridge
LOCATION:Dyersburg Funeral Home  U.S. 51  Dyersburg TN 38024
GEO:36.0578253;-89.3878111
END:VEVENT
END:VCALENDAR