BEGIN:VCALENDAR
VERSION:2.0
PRODID:-//Tukios.com/
BEGIN:VEVENT
UID:87b86a5e-430e-4c39-9982-b9989d213c11@www.dyersburgfuneralhome.net
DTSTAMP:20260425T011532Z
DTSTART:20260427T180000Z
DTEND:20260427T190000Z
SUMMARY:Funeral Service
DESCRIPTION:
URL:https://www.dyersburgfuneralhome.net/obituaries/reba-bane
LOCATION: 420 US-51 ByPass W  Dyersburg TN 38024
GEO:36.0579677;-89.387799
END:VEVENT
END:VCALENDAR