BEGIN:VCALENDAR
VERSION:2.0
PRODID:-//Tukios.com/
BEGIN:VEVENT
UID:7cbc55c6-e2b1-4bb2-bb16-4b5e4ba11574@www.dyersburgfuneralhome.net
DTSTAMP:20260425T011914Z
DTSTART:20260427T160000Z
DTEND:20260427T180000Z
SUMMARY:Visitation
DESCRIPTION:
URL:https://www.dyersburgfuneralhome.net/obituaries/reba-bane
LOCATION: 420 US-51 ByPass W  Dyersburg TN 38024
GEO:36.0579677;-89.387799
END:VEVENT
END:VCALENDAR